BEGIN:VCALENDAR
VERSION:2.0
PRODID:-//CERN//INDICO//EN
BEGIN:VEVENT
SUMMARY:13th Conference on Medicinal and Aromatic Plants of Southeast Euro
 pean Countries (CMAPSEEC 2026)
DTSTART:20261028T080000Z
DTEND:20261030T160000Z
DTSTAMP:20260423T232200Z
UID:indico-event-1@registration.cmapseec2026.al
CONTACT:cmapseec2026@cmapseec2026.al
DESCRIPTION:Speakers: Alban Ibraliu (Agricultural University of Tirana)\n\
 nhttps://registration.cmapseec2026.al/event/1/
IMAGE;VALUE=URI:https://registration.cmapseec2026.al/event/1/logo-42232927
 70.png
LOCATION:Shkoder\, Albania
URL:https://registration.cmapseec2026.al/event/1/
END:VEVENT
END:VCALENDAR
